BEGIN:VCALENDAR
VERSION:2.0
PRODID:-//Squarespace Inc/Squarespace 6//v6//EN
BEGIN:VEVENT
UID:5612f311e4b0b5bea6486aff@squarespace.com
DTSTAMP:20151005T231451Z
DTSTART:20151121T190000Z
DTEND:20151121T230000Z
SUMMARY:Zero Waste Design w/Daniel Silverstein
END:VEVENT
END:VCALENDAR
