BEGIN:VCALENDAR
VERSION:2.0
PRODID:-//Squarespace Inc/Squarespace 6//v6//EN
BEGIN:VEVENT
UID:561806cde4b0ae0940425c9a@squarespace.com
DTSTAMP:20151010T141244Z
DTSTART:20151115T200000Z
DTEND:20151115T210000Z
SUMMARY:Bacterial Printing: Part 2
END:VEVENT
END:VCALENDAR
