BEGIN:VCALENDAR
VERSION:2.0
PRODID:-//Squarespace Inc/Squarespace 6//v6//EN
BEGIN:VEVENT
UID:572a976f1bbee0f4e8cc38f6@squarespace.com
DTSTAMP:20160514T213254Z
DTSTART:20160522T200000Z
DTEND:20160523T010000Z
SUMMARY:A Green Beauty x Manufacture NY : Bazaar
END:VEVENT
END:VCALENDAR
