BEGIN:VCALENDAR
VERSION:2.0
PRODID:-//Squarespace Inc/Squarespace 6//v6//EN
BEGIN:VEVENT
UID:564ab069e4b01a652ab46bb6@squarespace.com
DTSTAMP:20151124T185047Z
DTSTART:20151202T233000Z
DTEND:20151203T020000Z
SUMMARY:Resourcing: The Material Supply Chain
END:VEVENT
END:VCALENDAR
